BEGIN:VCALENDAR
VERSION:2.0
PRODID:-//Hostile Environment Relief Organization - ECPv5.16.2.1//NONSGML v1.0//EN
CALSCALE:GREGORIAN
METHOD:PUBLISH
X-WR-CALNAME:Hostile Environment Relief Organization
X-ORIGINAL-URL:https://hero.kicks-ass.org
X-WR-CALDESC:Events for Hostile Environment Relief Organization
BEGIN:VTIMEZONE
TZID:America/Denver
BEGIN:DAYLIGHT
TZOFFSETFROM:-0700
TZOFFSETTO:-0600
TZNAME:MDT
DTSTART:20190310T090000
END:DAYLIGHT
BEGIN:STANDARD
TZOFFSETFROM:-0600
TZOFFSETTO:-0700
TZNAME:MST
DTSTART:20191103T080000
END:STANDARD
END:VTIMEZONE
BEGIN:VEVENT
DTSTART;VALUE=DATE:20190704
DTEND;VALUE=DATE:20190705
DTSTAMP:20260421T103849
CREATED:20190702T031538Z
LAST-MODIFIED:20190702T031538Z
UID:3797-1562198400-1562284799@hero.kicks-ass.org
SUMMARY:SCHEDULED PERSISTENCE WIPE
DESCRIPTION:This server instance has survived since alpha.  It is time for a fresh start.
URL:https://hero.kicks-ass.org/event/scheduled-persistence-wipe/
END:VEVENT
END:VCALENDAR