BEGIN:VCALENDAR
VERSION:2.0
PRODID:-//Hostile Environment Relief Organization - ECPv5.16.2.1//NONSGML v1.0//EN
CALSCALE:GREGORIAN
METHOD:PUBLISH
X-WR-CALNAME:Hostile Environment Relief Organization
X-ORIGINAL-URL:https://hero.kicks-ass.org
X-WR-CALDESC:Events for Hostile Environment Relief Organization
BEGIN:VTIMEZONE
TZID:America/New_York
BEGIN:DAYLIGHT
TZOFFSETFROM:-0500
TZOFFSETTO:-0400
TZNAME:EDT
DTSTART:20150308T070000
END:DAYLIGHT
BEGIN:STANDARD
TZOFFSETFROM:-0400
TZOFFSETTO:-0500
TZNAME:EST
DTSTART:20151101T060000
END:STANDARD
END:VTIMEZONE
BEGIN:VEVENT
DTSTART;TZID=America/New_York:20151128T190000
DTEND;TZID=America/New_York:20151128T210000
DTSTAMP:20260422T024641
CREATED:20160224T201047Z
LAST-MODIFIED:20160224T201047Z
UID:2696-1448737200-1448744400@hero.kicks-ass.org
SUMMARY:[HERO*][28 Nov][EST @ 19:00][Patrol][Ratnoe]
DESCRIPTION:I’ll be running a patrol of St. Josephs on the DayZ Underground server tonight. If you’d like to join\, show up in Ratnoe at 19:00 EST for briefing.
URL:https://hero.kicks-ass.org/event/hero28-novest-1900patrolratnoe/
END:VEVENT
END:VCALENDAR