BEGIN:VCALENDAR
VERSION:2.0
PRODID:-//Hostile Environment Relief Organization - ECPv5.16.2.1//NONSGML v1.0//EN
CALSCALE:GREGORIAN
METHOD:PUBLISH
X-WR-CALNAME:Hostile Environment Relief Organization
X-ORIGINAL-URL:https://hero.kicks-ass.org
X-WR-CALDESC:Events for Hostile Environment Relief Organization
BEGIN:VTIMEZONE
TZID:America/Denver
BEGIN:DAYLIGHT
TZOFFSETFROM:-0700
TZOFFSETTO:-0600
TZNAME:MDT
DTSTART:20160313T090000
END:DAYLIGHT
BEGIN:STANDARD
TZOFFSETFROM:-0600
TZOFFSETTO:-0700
TZNAME:MST
DTSTART:20161106T080000
END:STANDARD
END:VTIMEZONE
BEGIN:VEVENT
DTSTART;TZID=America/Denver:20160130T180000
DTEND;TZID=America/Denver:20160130T200000
DTSTAMP:20260422T001156
CREATED:20160225T010010Z
LAST-MODIFIED:20160225T010010Z
UID:2701-1454176800-1454184000@hero.kicks-ass.org
SUMMARY:[HERO*] [30 Jan] [MT @ 18:00] [DEAD DROPS] [NORTH BASE]
DESCRIPTION:3PP Public \nWe have 28 care packages at base ready to be distributed. \nWe will be gathering up the dead drop packages and loading them into one or more vehicles depending on the turnout.  Drive the packages to dead drop locations on our own server and drop them off. \nAny participants\, please take a screenshot (F12) of each dead drop and post them to HERO Legends\, thanks!  No text is needed on the post\, just the pictures.
URL:https://hero.kicks-ass.org/event/hero-30-jan-mt-1800-dead-drops-north-base/
END:VEVENT
END:VCALENDAR