BEGIN:VCALENDAR
VERSION:2.0
PRODID:-//Hostile Environment Relief Organization - ECPv5.16.2.1//NONSGML v1.0//EN
CALSCALE:GREGORIAN
METHOD:PUBLISH
X-WR-CALNAME:Hostile Environment Relief Organization
X-ORIGINAL-URL:https://hero.kicks-ass.org
X-WR-CALDESC:Events for Hostile Environment Relief Organization
BEGIN:VTIMEZONE
TZID:America/Denver
BEGIN:DAYLIGHT
TZOFFSETFROM:-0700
TZOFFSETTO:-0600
TZNAME:MDT
DTSTART:20160313T090000
END:DAYLIGHT
BEGIN:STANDARD
TZOFFSETFROM:-0600
TZOFFSETTO:-0700
TZNAME:MST
DTSTART:20161106T080000
END:STANDARD
END:VTIMEZONE
BEGIN:VEVENT
DTSTART;TZID=America/Denver:20160117T160000
DTEND;TZID=America/Denver:20160117T180000
DTSTAMP:20260422T014218
CREATED:20160225T005836Z
LAST-MODIFIED:20160225T005836Z
UID:2700-1453046400-1453053600@hero.kicks-ass.org
SUMMARY:[HERO*] [17 Jan] [MT @ 16:00] [TRAINING] [POLANA]
DESCRIPTION:3PP Mission \nOur friends over at the Hoodrat Gaming community have been invited to participate in our next training drills as bandits. \nWe will cover several scenarios with both friendly and unfriendly contacts and appropriate ways to handle different contacts as HEROs. \nThis training will be in 2 parts.  The first will be a dry fire exercise where our “bandits” will be using live rounds\, but our training squad will not.  “Bandits” will be shooting towards the squad without trying to hit them. \nWe will use the honor system to relay who gets killed over voice comms.  If you are “killed” during the dry fire training\, lay down and look at the ground.  Also\, do not ghost in voice communication after you have been “killed” but you may relay information up to your “death” to the rest of the squad. \nIf we have enough people from Hoodrat show up\, the second part of the training will be a live fire squad vs squad scenario where each squad will shoot to kill.  We may divide the squads to even out the groups depending on the turnout.
URL:https://hero.kicks-ass.org/event/hero-17-jan-mt-1600-training-polana/
END:VEVENT
END:VCALENDAR