BEGIN:VCALENDAR
VERSION:2.0
PRODID:-//Hostile Environment Relief Organization - ECPv5.16.2.1//NONSGML v1.0//EN
CALSCALE:GREGORIAN
METHOD:PUBLISH
X-WR-CALNAME:Hostile Environment Relief Organization
X-ORIGINAL-URL:https://hero.kicks-ass.org
X-WR-CALDESC:Events for Hostile Environment Relief Organization
BEGIN:VTIMEZONE
TZID:America/Denver
BEGIN:DAYLIGHT
TZOFFSETFROM:-0700
TZOFFSETTO:-0600
TZNAME:MDT
DTSTART:20160313T090000
END:DAYLIGHT
BEGIN:STANDARD
TZOFFSETFROM:-0600
TZOFFSETTO:-0700
TZNAME:MST
DTSTART:20161106T080000
END:STANDARD
END:VTIMEZONE
BEGIN:VEVENT
DTSTART;TZID=America/Denver:20160313T170000
DTEND;TZID=America/Denver:20160313T190000
DTSTAMP:20260421T224813
CREATED:20160312T043430Z
LAST-MODIFIED:20160312T043430Z
UID:2760-1457888400-1457895600@hero.kicks-ass.org
SUMMARY:[HERO*] [13 Mar] [MT @ 17:00] [BASE MAINTENANCE]
DESCRIPTION:Tiberius messaged me the other day saying that base was gone.  After investigation\, it appears that the base has partially despawned.  I believe the timer was 45 days on placed tents from what I read. \nI thought that interacting with the tents was enough to reset the timers\, however that does not seem to be the case.  All the tents that were ported over when we first setup the server have despawned\, leaving barrels with high value gear still behind like FALs and AKs.  This was not a base raid. \nNorth base location is still secure\, however we will need to do the following to keep our base gear: \n\nEmpty each base container such as barrels and tents\nPack up and place each container again\nRestock the containers\n\nSOUTH BASE MAY NEED TO BE ADDRESSED FIRST!  South base was ported over after north base so we may need to act quickly to keep south base. \nI will post an event for Sunday for base maintenance so we can reset any timers.  If anyone is able to get to it sooner\, please post here: http://hero.kicks-ass.org/forums/topic/north-base-despawned/
URL:https://hero.kicks-ass.org/event/hero-13-mar-mt-1700-base-maintenance/
END:VEVENT
END:VCALENDAR