BEGIN:VCALENDAR
VERSION:2.0
PRODID:-//Hostile Environment Relief Organization - ECPv5.16.2.1//NONSGML v1.0//EN
CALSCALE:GREGORIAN
METHOD:PUBLISH
X-WR-CALNAME:Hostile Environment Relief Organization
X-ORIGINAL-URL:https://hero.kicks-ass.org
X-WR-CALDESC:Events for Hostile Environment Relief Organization
BEGIN:VTIMEZONE
TZID:America/Denver
BEGIN:DAYLIGHT
TZOFFSETFROM:-0700
TZOFFSETTO:-0600
TZNAME:MDT
DTSTART:20160313T090000
END:DAYLIGHT
BEGIN:STANDARD
TZOFFSETFROM:-0600
TZOFFSETTO:-0700
TZNAME:MST
DTSTART:20161106T080000
END:STANDARD
END:VTIMEZONE
BEGIN:VEVENT
DTSTART;TZID=America/Denver:20160813T170000
DTEND;TZID=America/Denver:20160813T190000
DTSTAMP:20260421T133924
CREATED:20160812T033454Z
LAST-MODIFIED:20160812T033454Z
UID:3117-1471107600-1471114800@hero.kicks-ass.org
SUMMARY:[HERO*] [13 AUG] [MT @ 17:00] [BASE STARTUP KITS] [NORTH BASE]
DESCRIPTION:Tiberius and gang had the idea to hand out “Base Startup Kits” with tents and gear to get a base going.  Not many folks play 1PP these days\, but handing out startup bases may allow our server population to grow as well as get more people playing 1PP. \nSo far\, there are a bunch of civilian tents and car tents ready to go\, so we will post to reddit for folks to come and ask us for a base starter kit.  Depending on our community turnout\, we may run this as a full fledged trading mission with security.  If not\, we may end up doing dead drops or some other lower risk method to deliver the kits. \nItems needed: 4 sedan wheels\, 4 hatchback wheels\, civilian tents\, barrels\, shovels and hoes\, seeds\, axes
URL:https://hero.kicks-ass.org/event/hero-13-aug-mt-1700-base-startup-kits-north-base/
END:VEVENT
END:VCALENDAR