BEGIN:VCALENDAR
VERSION:2.0
PRODID:-//Hostile Environment Relief Organization - ECPv5.16.2.1//NONSGML v1.0//EN
CALSCALE:GREGORIAN
METHOD:PUBLISH
X-WR-CALNAME:Hostile Environment Relief Organization
X-ORIGINAL-URL:https://hero.kicks-ass.org
X-WR-CALDESC:Events for Hostile Environment Relief Organization
BEGIN:VTIMEZONE
TZID:America/Denver
BEGIN:DAYLIGHT
TZOFFSETFROM:-0700
TZOFFSETTO:-0600
TZNAME:MDT
DTSTART:20160313T090000
END:DAYLIGHT
BEGIN:STANDARD
TZOFFSETFROM:-0600
TZOFFSETTO:-0700
TZNAME:MST
DTSTART:20161106T080000
END:STANDARD
END:VTIMEZONE
BEGIN:VEVENT
DTSTART;TZID=America/Denver:20160108T160000
DTEND;TZID=America/Denver:20160108T180000
DTSTAMP:20260422T041257
CREATED:20160224T201430Z
LAST-MODIFIED:20160224T201430Z
UID:2699-1452268800-1452276000@hero.kicks-ass.org
SUMMARY:[HERO*] [08 Jan] [MT @ 16:00] [DEAD DROPS] [NORTH BASE]
DESCRIPTION:3PP Mission \nSee the new mission type: Care Package Dead Drops \nKicking off January with a bang by doing some dead drops as a community.  We will start by assembling some care packages at base and then drop folks off along the coast to distribute the packages to different servers. \nWe have some protector cases at south base and some at north base\, we will use the vehicles to move us all around. \nSome stuff we will need: \n\nprotector cases / ammo boxes\npens\npaper\ncanteens\ndigging tools
URL:https://hero.kicks-ass.org/event/hero-08-jan-mt-1600-dead-drops-north-base/
END:VEVENT
END:VCALENDAR