BEGIN:VCALENDAR
VERSION:2.0
PRODID:-//Hostile Environment Relief Organization - ECPv5.16.2.1//NONSGML v1.0//EN
CALSCALE:GREGORIAN
METHOD:PUBLISH
X-WR-CALNAME:Hostile Environment Relief Organization
X-ORIGINAL-URL:https://hero.kicks-ass.org
X-WR-CALDESC:Events for Hostile Environment Relief Organization
BEGIN:VTIMEZONE
TZID:America/Denver
BEGIN:DAYLIGHT
TZOFFSETFROM:-0700
TZOFFSETTO:-0600
TZNAME:MDT
DTSTART:20160313T090000
END:DAYLIGHT
BEGIN:STANDARD
TZOFFSETFROM:-0600
TZOFFSETTO:-0700
TZNAME:MST
DTSTART:20161106T080000
END:STANDARD
END:VTIMEZONE
BEGIN:VEVENT
DTSTART;TZID=America/Denver:20160507T170000
DTEND;TZID=America/Denver:20160507T190000
DTSTAMP:20260421T194838
CREATED:20160506T011936Z
LAST-MODIFIED:20160506T011936Z
UID:2897-1462640400-1462647600@hero.kicks-ass.org
SUMMARY:[HERO*] [07 MAY] [MT @ 17:00] [SUPER BAMBI CAMP]
DESCRIPTION:It’s that time\, 0.60 has hit experimental and we will be moving our entire base\, vehicles\, and everything else we can to Bambi Camp!  Please do not move anything before the event time so we can get it all moved at once and reduce the likelihood of it getting taken beforehand. \nOnce the move is complete\, I will take pictures announce on reddit that we have a public camp for people to come try stuff and maybe we can even record the chaos that ensues. \nParts of North Base have already despawned since we last rebuilt\, so I may try and reinforce some of the gear before the event.  If anyone has time or inclination to hunt down some armor\, rare guns\, and ammo before the move\, I am sure the redditors would greatly appreciate it! \nPrimarily we lost the tents containing: \n\nSome vehicle parts\nBody Armors\nGuns & Ammo\n\nThis is a huge push to get our server populated and well recognized before 0.60 hits.  Let’s make it as awesome as we can!
URL:https://hero.kicks-ass.org/event/hero-07-may-mt-1700-super-bambi-camp/
END:VEVENT
END:VCALENDAR