BEGIN:VCALENDAR
VERSION:2.0
PRODID:-//Hostile Environment Relief Organization - ECPv5.16.2.1//NONSGML v1.0//EN
CALSCALE:GREGORIAN
METHOD:PUBLISH
X-WR-CALNAME:Hostile Environment Relief Organization
X-ORIGINAL-URL:https://hero.kicks-ass.org
X-WR-CALDESC:Events for Hostile Environment Relief Organization
BEGIN:VTIMEZONE
TZID:America/Denver
BEGIN:DAYLIGHT
TZOFFSETFROM:-0700
TZOFFSETTO:-0600
TZNAME:MDT
DTSTART:20160313T090000
END:DAYLIGHT
BEGIN:STANDARD
TZOFFSETFROM:-0600
TZOFFSETTO:-0700
TZNAME:MST
DTSTART:20161106T080000
END:STANDARD
END:VTIMEZONE
BEGIN:VEVENT
DTSTART;TZID=America/Denver:20160306T170000
DTEND;TZID=America/Denver:20160306T190000
DTSTAMP:20260421T223953
CREATED:20160303T024424Z
LAST-MODIFIED:20160303T024424Z
UID:2740-1457283600-1457290800@hero.kicks-ass.org
SUMMARY:[HERO*] [06 MAR] [MT @ 17:00] [PROMO VIDEO] [POLANA]
DESCRIPTION:I am going to go for a desperate push to get the last of the video segments recorded for our next promotional video.  We need as many bodies as we can muster for the last few segments. \nI am hoping to get about 7 folks to record the last few scenes.  I will be sending out invites the day of the recordings to see if people can make it. \nNormally I don’t push so hard for an event\, but with the new renderer coming\, who knows when\, we don’t have much time before we have to redo everything from scratch including all the looting for props and video recording!
URL:https://hero.kicks-ass.org/event/hero-06-mar-mt-1700-promo-video-polana/
END:VEVENT
END:VCALENDAR