BEGIN:VCALENDAR
VERSION:2.0
PRODID:-//Hostile Environment Relief Organization - ECPv5.16.2.1//NONSGML v1.0//EN
CALSCALE:GREGORIAN
METHOD:PUBLISH
X-WR-CALNAME:Hostile Environment Relief Organization
X-ORIGINAL-URL:https://hero.kicks-ass.org
X-WR-CALDESC:Events for Hostile Environment Relief Organization
BEGIN:VTIMEZONE
TZID:America/Denver
BEGIN:DAYLIGHT
TZOFFSETFROM:-0700
TZOFFSETTO:-0600
TZNAME:MDT
DTSTART:20160313T090000
END:DAYLIGHT
BEGIN:STANDARD
TZOFFSETFROM:-0600
TZOFFSETTO:-0700
TZNAME:MST
DTSTART:20161106T080000
END:STANDARD
END:VTIMEZONE
BEGIN:VEVENT
DTSTART;TZID=America/Denver:20160205T180000
DTEND;TZID=America/Denver:20160205T200000
DTSTAMP:20260422T014043
CREATED:20160225T010058Z
LAST-MODIFIED:20160225T010058Z
UID:2702-1454695200-1454702400@hero.kicks-ass.org
SUMMARY:[HERO*] [05 Feb] [MT @ 18:00] [RP NIGHT] [DayZ Underground]
DESCRIPTION:Tonight I will introduce a new mission template to the group that will allow play styles outside of the standard HERO play style to exist while playing here. \nLMAR will still be in charge to enforce community rules such as mic spam\, etc.  However in-game rules of engagement will be entirely dependent on your own character’s back story. \nPlease read up on the new Roleplay Survival mission template in the field manual before participating.
URL:https://hero.kicks-ass.org/event/hero-05-feb-mt-1800-rp-night-dayz-underground/
END:VEVENT
END:VCALENDAR